BEGIN:VCALENDAR
VERSION:2.0
PRODID:-//ChamberMaster//Event Calendar 2.0//EN
METHOD:PUBLISH
X-PUBLISHED-TTL:P3D
REFRESH-INTERVAL:P3D
CALSCALE:GREGORIAN
BEGIN:VEVENT
DTSTART:20190221T233000Z
DTEND:20190222T003000Z
X-MICROSOFT-CDO-ALLDAYEVENT:FALSE
SUMMARY:14th Human Rights Film Festival
DESCRIPTION:Denison University presents the 14th Human Rights Film Festival Screening of "What Will People Say\," a drama\, directed by Iram Haq.
X-ALT-DESC;FMTTYPE=text/html:<span style="color:rgb(0\, 0\, 0)\; font-family:verdana\,geneva\,sans-serif\; font-size:12px">Denison University presents the 14th Human Rights Film Festival Screening of&nbsp\;</span><span style="color:rgb(0\, 0\, 0)\; font-family:verdana\,geneva\,sans-serif\; font-size:11pt">&ldquo\;What Will People Say\,&rdquo\; a drama\, directed by </span><span style="font-family:roboto\; font-size:11pt"><a href="https://www.google.com/search?q=Iram+Haq&amp\;stick=H4sIAAAAAAAAAOPgE-LVT9c3NExPtky3rDSrVOLSz9U3sCwpSjZN1hLLTrbST8vMyQUTVimZRanJJflFAMQWYjQ1AAAA&amp\;sa=X&amp\;ved=2ahUKEwjsiIGLw8_fAhUM9IMKHfKCBAIQmxMoATAlegQIAxAL" style="color: rgb(0\, 0\, 170)\; text-decoration-line: none\;">Iram Haq</a></span><span style="font-family:roboto\; font-size:11pt">.</span>
LOCATION:Denison University Slayter Hall 200 Ridge Road
UID:e.180.12306
SEQUENCE:3
DTSTAMP:20260420T035511Z
URL:http://business.granvilleoh.com/events/details/14th-human-rights-film-festival-02-21-2019-12306
END:VEVENT

END:VCALENDAR
