BEGIN:VCALENDAR
VERSION:2.0
PRODID:-//ChamberMaster//Event Calendar 2.0//EN
METHOD:PUBLISH
X-PUBLISHED-TTL:P3D
REFRESH-INTERVAL:P3D
CALSCALE:GREGORIAN
BEGIN:VEVENT
DTSTART:20190226T233000Z
DTEND:20190227T003000Z
X-MICROSOFT-CDO-ALLDAYEVENT:FALSE
SUMMARY:14th Human Rights Film Festival
DESCRIPTION:Denison University presents the 14th Human Rights Film Festival Screening of "Anote's Ark\," a documentary\, directed by Matthieu Rytz.
X-ALT-DESC;FMTTYPE=text/html:<span style="color:rgb(0\, 0\, 0)\; font-family:verdana\,geneva\,sans-serif\; font-size:12px">Denison University presents the 14th Human Rights Film Festival Screening of &quot\;</span><span style="color:rgb(0\, 0\, 0)\; font-family:verdana\,geneva\,sans-serif\; font-size:11pt">Anote&rsquo\;s Ark\,&quot\; a documentary\, directed by </span><span style="color:rgb(0\, 0\, 0)\; font-family:roboto\; font-size:11pt"><a href="https://www.google.com/search?q=Matthieu+Rytz&amp\;stick=H4sIAAAAAAAAAOPgE-LVT9c3NEwzM6g0MMnKU4JyDeItqiyL07XEspOt9NMyc3LBhFVKZlFqckl-EQAP6d_POAAAAA&amp\;sa=X&amp\;ved=2ahUKEwicroznw8_fAhUB4IMKHS_tB-cQmxMoATAeegQIBxAJ" style="color: rgb(0\, 0\, 170)\; text-decoration-line: none\;">Matthieu Rytz</a>.</span><br />\n&nbsp\;
LOCATION:Denison University Slayter Hall 200 Ridge Road
UID:e.180.12307
SEQUENCE:3
DTSTAMP:20260420T023138Z
URL:http://business.granvilleoh.com/events/details/14th-human-rights-film-festival-02-26-2019-12307
END:VEVENT

END:VCALENDAR
