BEGIN:VCALENDAR
VERSION:2.0
PRODID:-//ChamberMaster//Event Calendar 2.0//EN
METHOD:PUBLISH
X-PUBLISHED-TTL:P3D
REFRESH-INTERVAL:P3D
CALSCALE:GREGORIAN
BEGIN:VEVENT
DTSTART:20181008T153000Z
DTEND:20181008T220000Z
X-MICROSOFT-CDO-ALLDAYEVENT:FALSE
SUMMARY:2018 Granville Chamber Golf Outing
DESCRIPTION:Join the Granville Chamber  for the 10th Annual Golf Outing at the beautiful Denison Golf Club at Granville.\n\n\n\nCall Steve Matheny with any questions at 740-587-4490
X-ALT-DESC;FMTTYPE=text/html:Join the Granville Chamber&nbsp\; for the 10th Annual Golf Outing at the beautiful Denison Golf Club at Granville.<br />\n<br />\nCall Steve Matheny with any questions at 740-587-4490
LOCATION:Denison Golf Club at Granville 555 Newark-Granville Road Granville\, OH 43023
UID:e.180.11974
SEQUENCE:3
DTSTAMP:20260419T210255Z
URL:http://business.granvilleoh.com/events/details/2018-granville-chamber-golf-outing-11974
END:VEVENT

END:VCALENDAR
