BEGIN:VCALENDAR
VERSION:2.0
PRODID:-//ChamberMaster//Event Calendar 2.0//EN
METHOD:PUBLISH
X-PUBLISHED-TTL:P3D
REFRESH-INTERVAL:P3D
CALSCALE:GREGORIAN
BEGIN:VEVENT
DTSTART:20190504T190000Z
DTEND:20190504T200000Z
X-MICROSOFT-CDO-ALLDAYEVENT:FALSE
SUMMARY:2019 Denison Fringe Festival: “A Midsummer Night’s Dream”
DESCRIPTION:The Department of Theatre presents the 2019 Denison Fringe Festival. \n\n\n\nDenison University's Fringe Festival presents "A Midsummer Night's Dream\," a student production adapted from Shakespeare by Sarah Wilson '20\, Diego Rubey '19 and Evan Joslyn '19 with stage manager Sophia Menconi '20. An immersive production of Shakespeare's classic love story\, "A Midsummer Night's Dream\," set in Denison's Bio Reserve. This shortened version will invite the audience to escape from our world with the lovers and enter into the fairies' world of the forest\, which is heavily influenced by the themes and peaceful importance of the 1960s "summer of love."\nThe play will begin at the Field Station of the Bio Reserve.\n\nThis is an immersive hike in the woods. Please be prepared for rocky trails and mud.
X-ALT-DESC;FMTTYPE=text/html:<span style="color:rgb(0\, 0\, 0)\; font-family:arial\; font-size:11pt">The Department of Theatre presents the 2019 Denison Fringe Festival. </span><br />\n<br />\n<span style="background-color:transparent\; color:rgb(0\, 0\, 0)\; font-family:arial\; font-size:11pt">Denison University&rsquo\;s Fringe Festival presents &ldquo\;A Midsummer Night&rsquo\;s Dream\,&rdquo\; a student production adapted from Shakespeare by Sarah Wilson &rsquo\;20\, Diego Rubey &rsquo\;19 and Evan Joslyn &rsquo\;19 with stage manager Sophia Menconi &rsquo\;20. An immersive production of Shakespeare&rsquo\;s classic love story\, &ldquo\;A Midsummer Night&rsquo\;s Dream\,&rdquo\; set in Denison&rsquo\;s Bio Reserve. This shortened version will invite the audience to escape from our world with the lovers and enter into the fairies&rsquo\; world of the forest\, which is heavily influenced by the themes and peaceful importance of the 1960s &ldquo\;summer of love.&rdquo\;</span>\n<p><span style="font-size:14px">The play will begin at the Field Station of the Bio Reserve.</span></p>\n\n<p><span style="font-size:14px">This is an immersive hike in the woods. Please be prepared for rocky trails and mud.</span></p>\n<span style="background-color:transparent\; color:rgb(0\, 0\, 0)\; font-family:arial\; font-size:11pt"> </span>
LOCATION:Denison University Biological Reserve 1760 North St NW
UID:e.180.12595
SEQUENCE:3
DTSTAMP:20260420T065153Z
URL:http://business.granvilleoh.com/events/details/2019-denison-fringe-festival-a-midsummer-night-s-dream-12595
END:VEVENT

END:VCALENDAR
