BEGIN:VCALENDAR
VERSION:2.0
PRODID:-//ChamberMaster//Event Calendar 2.0//EN
METHOD:PUBLISH
X-PUBLISHED-TTL:P3D
REFRESH-INTERVAL:P3D
CALSCALE:GREGORIAN
BEGIN:VEVENT
DTSTART:20190413T003000Z
DTEND:20190413T013000Z
X-MICROSOFT-CDO-ALLDAYEVENT:FALSE
SUMMARY:2019 Denison Fringe Festival: "Baby Steps"
DESCRIPTION:The Department of Theatre presents the 2019 Denison Fringe Festival. Denison University's Fringe Festival presents "Baby Steps\," a student production directed by Mike Angelo '19 and Sophia Menconi '20 with playwright Maggie Chamberlain '19. "Baby Steps" follows two high school seniors\, Katie and Jacob\, as they pretend to be in a relationship in a small\, rural town\, despite the fact that they're both gay.
X-ALT-DESC;FMTTYPE=text/html:<span style="color:rgb(0\, 0\, 0)\; font-family:arial\; font-size:11pt">The Department of Theatre presents the 2019 Denison Fringe Festival. </span><span style="color:rgb(0\, 0\, 0)\; font-family:arial\; font-size:11pt">Denison University&rsquo\;s Fringe Festival presents &ldquo\;Baby Steps\,&rdquo\; a student production directed by Mike Angelo &rsquo\;19 and Sophia Menconi &rsquo\;20 with playwright Maggie Chamberlain &rsquo\;19. &ldquo\;Baby Steps&rdquo\; follows two high school seniors\, Katie and Jacob\, as they pretend to be in a relationship in a small\, rural town\, despite the fact that they&rsquo\;re both gay.</span>
LOCATION:Denison University Black Box Theatre of the Burke Hall of Music and Arts 240 West Broadway
UID:e.180.12587
SEQUENCE:3
DTSTAMP:20260420T051107Z
URL:http://business.granvilleoh.com/events/details/2019-denison-fringe-festival-baby-steps-04-12-2019-12587
END:VEVENT

END:VCALENDAR
