BEGIN:VCALENDAR
VERSION:2.0
PRODID:-//ChamberMaster//Event Calendar 2.0//EN
METHOD:PUBLISH
X-PUBLISHED-TTL:P3D
REFRESH-INTERVAL:P3D
CALSCALE:GREGORIAN
BEGIN:VEVENT
DTSTART:20190428T230000Z
DTEND:20190429T000000Z
X-MICROSOFT-CDO-ALLDAYEVENT:FALSE
SUMMARY:2019 Denison Fringe Festival: “Esta Soy Yo”
DESCRIPTION:The Department of Theatre presents the 2019 Denison Fringe Festival. \n\n\n\nDenison University's Fringe Festival presents "Esta Soy Yo\," a student production created and performed by Giselle Hernandez '19with stage manager Kaity Waddell '19. "Esta Soy Yo" is a video-narrative piece depicting the duality of racism in the United States and Peru. This piece serves to explore the subtle and not so subtle ways in which discrimination and racism is further emphasized by the representation\, or lack thereof\, in entertainment. It demonstrates how two women from completely different places and backgrounds can have similar experiences in their homes. Due to the nature of this piece and it's underlying message\, it will be performed solely in Spanish and Quechua.
X-ALT-DESC;FMTTYPE=text/html:<span style="color:rgb(0\, 0\, 0)\; font-family:arial\; font-size:11pt">The Department of Theatre presents the 2019 Denison Fringe Festival. </span><br />\n<br />\n<span style="background-color:transparent\; color:rgb(0\, 0\, 0)\; font-family:arial\; font-size:11pt">Denison University&rsquo\;s Fringe Festival presents &ldquo\;Esta Soy Yo\,&rdquo\; a student production created and performed by Giselle Hernandez &rsquo\;19with stage manager Kaity Waddell &rsquo\;19. &ldquo\;Esta Soy Yo&rdquo\; is a video-narrative piece depicting the duality of racism in the United States and Peru. This piece serves to explore the subtle and not so subtle ways in which discrimination and racism is further emphasized by the representation\, or lack thereof\, in entertainment. It demonstrates how two women from completely different places and backgrounds can have similar experiences in their homes. Due to the nature of this piece and it&rsquo\;s underlying message\, it will be performed solely in Spanish and Quechua.</span>
LOCATION:Denison University Knapp Performance Lab 300 Ridge Road
UID:e.180.12594
SEQUENCE:3
DTSTAMP:20260420T051140Z
URL:http://business.granvilleoh.com/events/details/2019-denison-fringe-festival-esta-soy-yo-04-28-2019-12594
END:VEVENT

END:VCALENDAR
