BEGIN:VCALENDAR
VERSION:2.0
PRODID:-//ChamberMaster//Event Calendar 2.0//EN
METHOD:PUBLISH
X-PUBLISHED-TTL:P3D
REFRESH-INTERVAL:P3D
CALSCALE:GREGORIAN
BEGIN:VEVENT
DTSTART:20190414T003000Z
DTEND:20190414T013000Z
X-MICROSOFT-CDO-ALLDAYEVENT:FALSE
SUMMARY:2019 Denison Fringe Festival: “Mae West: After Dark”
DESCRIPTION:The Department of Theatre presents the 2019 Denison Fringe Festival.\n\n\n\nDenison University's Fringe Festival presents "Mae West: After Dark\," a student production created and performed by Francesca Mouery '19\, directed by Will Knoop '21 with stage manager Helen Thornton '20. The legendary actress The playwright The Diamond\, herself. Mae West was known for her wit and glittering persona\, whether working the extravagance of a Vaudeville stage or playing out dreams on the silver screen of Hollywood. But\, this broad of a woman was more than just blonde hair and innuendo. Paving the way through her groundbreaking plays and writings\, she established herself as one of the nation's most influential playwrights and activists. This play pays tribute to the genius stylings of Solo Performance of Denison University's past (  la Hal Holbrook in Mark Twain: Tonight!) and let's audience get to know the real "Queen of Sex" in all her glory. Whether you know a lot about the blonde bombshell herself or want to get to know who Mae West is for sure  Why don'tcha come up sometime\, and see her  in "Mae West: After Dark."
X-ALT-DESC;FMTTYPE=text/html:<span style="color:rgb(0\, 0\, 0)\; font-family:arial\; font-size:11pt">The Department of Theatre presents the 2019 Denison Fringe Festival.<br />\n<br />\nDenison University&rsquo\;s Fringe Festival presents &ldquo\;Mae West: After Dark\,&rdquo\; a student production created and performed by Francesca Mouery &rsquo\;19\, directed by Will Knoop &rsquo\;21 with stage manager Helen Thornton &rsquo\;20. The legendary actress&hellip\;The playwright&hellip\;The Diamond\, herself. Mae West was known for her wit and glittering persona\, whether working the extravagance of a Vaudeville stage or playing out dreams on the silver screen of Hollywood. But\, this broad of a woman was more than just blonde hair and innuendo. Paving the way through her groundbreaking plays and writings\, she established herself as one of the nation&rsquo\;s most influential playwrights and activists. This play pays tribute to the genius stylings of Solo Performance of Denison University&rsquo\;s past (&agrave\; la Hal Holbrook in Mark Twain: Tonight!) and let&rsquo\;</span><span style="background-color:transparent\; color:rgb(0\, 0\, 0)\; font-family:arial\; font-size:11pt">s audience get to know the real &ldquo\;Queen of Sex&rdquo\; in all her glory. Whether you know a lot about the blonde bombshell herself or want to get to know who Mae West is for sure&hellip\; Why don&rsquo\;tcha come up sometime\, and see her&hellip\; in &ldquo\;Mae West: After Dark.&rdquo\; </span>
LOCATION:Denison University Black Box Theatre of the Burke Hall of Music and Arts 240 West Broadway
UID:e.180.12588
SEQUENCE:3
DTSTAMP:20260420T051031Z
URL:http://business.granvilleoh.com/events/details/2019-denison-fringe-festival-mae-west-after-dark-12588
END:VEVENT

END:VCALENDAR
