BEGIN:VCALENDAR
VERSION:2.0
PRODID:-//ChamberMaster//Event Calendar 2.0//EN
METHOD:PUBLISH
X-PUBLISHED-TTL:P3D
REFRESH-INTERVAL:P3D
CALSCALE:GREGORIAN
BEGIN:VEVENT
DTSTART:20190413T230000Z
DTEND:20190414T000000Z
X-MICROSOFT-CDO-ALLDAYEVENT:FALSE
SUMMARY:2019 Denison Fringe Festival: "Marriage (a work in progress)"
DESCRIPTION:The Department of Theatre presents the 2019 Denison Fringe Festival.\n\n\n\nDenison University's Fringe Festival presents "Marriage (a work in progress)\," with director and Assistant Professor of Theatre Jim Dennen\, Vail Artist-in-Residence Lauren Katz and Vail Artist-in-Residence Joey Slotnick. "Marriage (a work in progress)" is a completely improvised exploration of the ultimate Western commitment between two people. Staged so that players explicitly share and struggle for agency and spectatorial attention with (and as) the married characters they create\, the pacts of theatre and marriage begin to mimic and reveal each other.
X-ALT-DESC;FMTTYPE=text/html:<span style="color:rgb(0\, 0\, 0)\; font-family:arial\; font-size:11pt">The Department of Theatre presents the 2019 Denison Fringe Festival.<br />\n<br />\nDenison University&rsquo\;s Fringe Festival presents </span><span style="background-color:transparent\; color:rgb(0\, 0\, 0)\; font-family:arial\; font-size:11pt">&quot\;Marriage (a work in progress)\,&quot\;</span><span style="color:rgb(0\, 0\, 0)\; font-family:arial\; font-size:11pt"> with director and Assistant Professor of Theatre Jim Dennen\, Vail Artist-in-Residence Lauren Katz and Vail Artist-in-Residence Joey Slotnick. &ldquo\;Marriage (a work in progress)&rdquo\; is a completely improvised exploration of the ultimate Western commitment between two people. Staged so that players explicitly share and struggle for agency and spectatorial attention with (and as) the married characters they create\, the pacts of theatre and marriage begin to mimic and reveal each other.</span>
LOCATION:Denison University Black Box Theatre of the Burke Hall of Music and Arts 240 West Broadway
UID:e.180.12603
SEQUENCE:3
DTSTAMP:20260420T050939Z
URL:http://business.granvilleoh.com/events/details/2019-denison-fringe-festival-marriage-a-work-in-progress-04-13-2019-12603
END:VEVENT

END:VCALENDAR
