BEGIN:VCALENDAR
VERSION:2.0
PRODID:-//ChamberMaster//Event Calendar 2.0//EN
METHOD:PUBLISH
X-PUBLISHED-TTL:P3D
REFRESH-INTERVAL:P3D
CALSCALE:GREGORIAN
BEGIN:VEVENT
DTSTART:20190421T180000Z
DTEND:20190421T190000Z
X-MICROSOFT-CDO-ALLDAYEVENT:FALSE
SUMMARY:2019 Denison Fringe Festival: “The Winter’s Tale”
DESCRIPTION:The Department of Theatre presents the 2019 Denison Fringe Festival. \n\n\n\nDenison University's Fringe Festival presents "The Winter's Tale\," a student production created by Arin Caveney '19 and Sarah Hendricks '21 (adapted from Shakespeare). "The Winter's Tale" follows a jealous king seeking revenge against his seemingly innocent queen.
X-ALT-DESC;FMTTYPE=text/html:<span style="color:rgb(0\, 0\, 0)\; font-family:arial\; font-size:11pt">The Department of Theatre presents the 2019 Denison Fringe Festival. </span><br />\n<br />\n<span style="background-color:transparent\; color:rgb(0\, 0\, 0)\; font-family:arial\; font-size:11pt">Denison University&rsquo\;s Fringe Festival presents &ldquo\;The Winter&rsquo\;s Tale\,&rdquo\; a student production created by Arin Caveney &rsquo\;19 and Sarah Hendricks &rsquo\;21 (adapted from Shakespeare). &ldquo\;The Winter&rsquo\;s Tale&rdquo\; follows a jealous king seeking revenge against his seemingly innocent queen.</span>
LOCATION:Denison University Bryant Arts Center 210 West College Street
UID:e.180.12592
SEQUENCE:3
DTSTAMP:20260420T065432Z
URL:http://business.granvilleoh.com/events/details/2019-denison-fringe-festival-the-winter-s-tale-04-21-2019-12592
END:VEVENT

END:VCALENDAR
