BEGIN:VCALENDAR
VERSION:2.0
PRODID:-//ChamberMaster//Event Calendar 2.0//EN
METHOD:PUBLISH
X-PUBLISHED-TTL:P3D
REFRESH-INTERVAL:P3D
CALSCALE:GREGORIAN
BEGIN:VEVENT
DTSTART:20190923T160000Z
DTEND:20190923T210000Z
X-MICROSOFT-CDO-ALLDAYEVENT:FALSE
SUMMARY:2019 Granville Chamber Golf Outing
DESCRIPTION:Join the Granville Chamber for the 11th Annual Golf Outing at the beautiful Denison Golf Club at Granville.\n\n\n\nTo sponsor or register for this event\, please click REGISTER NOW above\, and you can purchase your sponsorships and golf registrations.  Call Steve Matheny with any questions at 740-587-4490
X-ALT-DESC;FMTTYPE=text/html:Join the Granville Chamber for the 11th Annual Golf Outing at the beautiful Denison Golf Club at Granville.<br />\n<br />\nTo sponsor or register for this event\, please click REGISTER NOW above\, and you can purchase your sponsorships and golf registrations. &nbsp\;Call Steve Matheny with any questions at 740-587-4490
LOCATION:Denison Golf Club at Granville 555 Newark-Granville Road Granville\, OH 43023
UID:e.180.12675
SEQUENCE:3
DTSTAMP:20260422T115417Z
URL:http://business.granvilleoh.com/events/details/2019-granville-chamber-golf-outing-12675
END:VEVENT

END:VCALENDAR
