BEGIN:VCALENDAR
VERSION:2.0
PRODID:-//ChamberMaster//Event Calendar 2.0//EN
METHOD:PUBLISH
X-PUBLISHED-TTL:P3D
REFRESH-INTERVAL:P3D
CALSCALE:GREGORIAN
BEGIN:VEVENT
DTSTART:20191025T230000Z
DTEND:20191026T013000Z
X-MICROSOFT-CDO-ALLDAYEVENT:FALSE
SUMMARY:23rd Annual Denison Jazz Guitar Festival: Pete McCann Trio
DESCRIPTION:The Denison Department of Music presents the 23rd Annual Denison Jazz Guitar Festival opening concert\, featuring the Pete McCann Trio\, opening the concert is the Brett Burleson Trio\, led by Denison's guitar studio instructor Brett Burleson.
X-ALT-DESC;FMTTYPE=text/html:<span style="color:rgb(0\, 0\, 0)\; font-family:arial\; font-size:11pt">The Denison Department of Music presents the&nbsp\;</span><span style="background-color:transparent\; color:rgb(0\, 0\, 0)\; font-family:arial\; font-size:11pt">23rd Annual Denison Jazz Guitar Festival&nbsp\;opening concert\, featuring the Pete McCann Trio\, opening the concert is the Brett Burleson Trio\, led by Denison&#39\;s guitar studio instructor Brett Burleson.</span>
LOCATION:Denison University Burke Recital Hall of the Michael D. Eisner Center for the Performing Arts 240 West Broadway
UID:e.180.12878
SEQUENCE:3
DTSTAMP:20260422T132253Z
URL:http://business.granvilleoh.com/events/details/23rd-annual-denison-jazz-guitar-festival-12878
END:VEVENT

END:VCALENDAR
