BEGIN:VCALENDAR
VERSION:2.0
PRODID:-//ChamberMaster//Event Calendar 2.0//EN
METHOD:PUBLISH
X-PUBLISHED-TTL:P3D
REFRESH-INTERVAL:P3D
CALSCALE:GREGORIAN
BEGIN:VEVENT
DTSTART:20191026T230000Z
DTEND:20191027T013000Z
X-MICROSOFT-CDO-ALLDAYEVENT:FALSE
SUMMARY:23rd Annual Denison Jazz Guitar Festival: The Bobby Broom Trio
DESCRIPTION:The Department of Music presents the 23rd Annual Denison Jazz Guitar Festival closing concert\, featuring The Bobby Broom Trio\, an American jazz trio based in Chicago. The Tom Carroll Quartet is opening for the Bobby Broom Trio.
X-ALT-DESC;FMTTYPE=text/html:<div>\n<div>\n<div>\n<div>\n<div>\n<div>\n<div>\n<div>\n<div>\n<div>\n<div>\n<div>\n<div>\n<div>\n<div>\n<div>\n<p>The Department of Music presents the 23rd Annual Denison Jazz Guitar Festival closing concert\, featuring The Bobby Broom Trio\, an American jazz trio based in Chicago. The Tom Carroll Quartet is opening for the Bobby Broom Trio.</p>\n\n<div>&nbsp\;</div>\n</div>\n</div>\n</div>\n</div>\n</div>\n</div>\n</div>\n</div>\n\n<div>&nbsp\;</div>\n</div>\n</div>\n</div>\n</div>\n</div>\n</div>\n</div>\n</div>\n
LOCATION:Denison University Michael D. Eisner Center for the Performing Arts\, Burke Recital Hall 240 West Broadway
UID:e.180.12825
SEQUENCE:3
DTSTAMP:20260422T133244Z
URL:http://business.granvilleoh.com/events/details/23rd-annual-denison-jazz-guitar-festival-pete-mccann-trio-with-brett-burleson-trio-12825
END:VEVENT

END:VCALENDAR
