BEGIN:VCALENDAR
VERSION:2.0
PRODID:-//ChamberMaster//Event Calendar 2.0//EN
METHOD:PUBLISH
X-PUBLISHED-TTL:P3D
REFRESH-INTERVAL:P3D
CALSCALE:GREGORIAN
BEGIN:VEVENT
DTSTART:20180512T160000Z
DTEND:20180513T000000Z
X-MICROSOFT-CDO-ALLDAYEVENT:FALSE
SUMMARY:2nd Annual Granville Jazz Fest
DESCRIPTION:Join us for the 2nd Annual Granville Jazz Fest outside on the beautiful amphitheater lawn of OSUN/COTC. Enjoy a day of entertaining jazz music from school jazz bands all across the area. Bring your lawn chairs or blanket\, enjoy food trucks from SteamRoller Bagels\, Wood Fired Pizza\, New Orleans Shaved Ice and Weathervane Kettle Corn. 6:30 The Neighhbortones 7:00 Ohio University Jazz Combo.
X-ALT-DESC;FMTTYPE=text/html:Join us for the 2nd Annual Granville Jazz Fest outside on the beautiful amphitheater lawn of OSUN/COTC. Enjoy a day of entertaining jazz music from school jazz bands all across the area. Bring your lawn chairs or blanket\, enjoy food trucks from SteamRoller Bagels\, Wood Fired Pizza\, New Orleans Shaved Ice and Weathervane Kettle Corn. 6:30 The Neighhbortones 7:00 Ohio University Jazz Combo.
LOCATION:OSUN/COTC amphitheater. Rain location Warner Center.
UID:e.180.11990
SEQUENCE:3
DTSTAMP:20260421T100805Z
URL:http://business.granvilleoh.com/events/details/2nd-annual-granville-jazz-fest-11990
END:VEVENT

END:VCALENDAR
