BEGIN:VCALENDAR
VERSION:2.0
PRODID:-//ChamberMaster//Event Calendar 2.0//EN
METHOD:PUBLISH
X-PUBLISHED-TTL:P3D
REFRESH-INTERVAL:P3D
CALSCALE:GREGORIAN
BEGIN:VEVENT
DTSTART:20190625T210000Z
DTEND:20190625T230000Z
X-MICROSOFT-CDO-ALLDAYEVENT:FALSE
SUMMARY:3D Printing: Cable/Earphone Organizer
DESCRIPTION:Customize and print your cable or earphone organizer. Teens and adults are welcome to register online or by calling 740-587-0196 ext 110.
X-ALT-DESC;FMTTYPE=text/html:Customize and print your cable or earphone organizer. Teens and adults are welcome to register online or by calling 740-587-0196 ext 110.
LOCATION:Granville Public Library
UID:e.180.12691
SEQUENCE:3
DTSTAMP:20260420T081513Z
URL:http://business.granvilleoh.com/events/details/3d-printing-cable-earphone-organizer-12691
END:VEVENT

END:VCALENDAR
