BEGIN:VCALENDAR
VERSION:2.0
PRODID:-//ChamberMaster//Event Calendar 2.0//EN
METHOD:PUBLISH
X-PUBLISHED-TTL:P3D
REFRESH-INTERVAL:P3D
CALSCALE:GREGORIAN
BEGIN:VEVENT
DTSTART:20190416T210000Z
DTEND:20190416T230000Z
X-MICROSOFT-CDO-ALLDAYEVENT:FALSE
SUMMARY:3D Printing Class: Garden Signs
DESCRIPTION:Create a customized garden marker for your spring planting using Tinkercad. Registration is required at www.granvillelibrary.org/calendar. Teens and adults welcome.
X-ALT-DESC;FMTTYPE=text/html:Create a customized garden marker for your spring planting using Tinkercad. Registration is required at www.granvillelibrary.org/calendar. Teens and adults welcome.
LOCATION:Granville Public Library
UID:e.180.12557
SEQUENCE:3
DTSTAMP:20260420T050652Z
URL:http://business.granvilleoh.com/events/details/3d-printing-class-garden-signs-12557
END:VEVENT

END:VCALENDAR
