BEGIN:VCALENDAR
VERSION:2.0
PRODID:-//ChamberMaster//Event Calendar 2.0//EN
METHOD:PUBLISH
X-PUBLISHED-TTL:P3D
REFRESH-INTERVAL:P3D
CALSCALE:GREGORIAN
BEGIN:VEVENT
DTSTART:20190219T220000Z
DTEND:20190220T000000Z
X-MICROSOFT-CDO-ALLDAYEVENT:FALSE
SUMMARY:3D Printing with Tinkercad
DESCRIPTION:This class is the next step with having a 3D Printer. Each months class will teach you Tinkercad & help you learn the basics as you customize one free object to be printed on our 3d printer. Basic Computer knowledge required. (5 person class).
X-ALT-DESC;FMTTYPE=text/html:This class is the next step with having a 3D Printer. Each months class will teach you Tinkercad &amp\; help you learn the basics as you customize one free object to be printed on our 3d printer. Basic Computer knowledge required. (5 person class).
LOCATION:Granville Public Library
UID:e.180.12433
SEQUENCE:3
DTSTAMP:20260420T022606Z
URL:http://business.granvilleoh.com/events/details/3d-printing-with-tinkercad-02-19-2019-12433
END:VEVENT

END:VCALENDAR
