BEGIN:VCALENDAR
VERSION:2.0
PRODID:-//ChamberMaster//Event Calendar 2.0//EN
METHOD:PUBLISH
X-PUBLISHED-TTL:P3D
REFRESH-INTERVAL:P3D
CALSCALE:GREGORIAN
BEGIN:VEVENT
DTSTART:20190521T210000Z
DTEND:20190521T230000Z
X-MICROSOFT-CDO-ALLDAYEVENT:FALSE
SUMMARY:3D Printing with Tinkercad: Luggage Tags
DESCRIPTION:Create a customized 3D printed travel tag for your next vacation! Basic computer knowledge needed. Teens and adults welcome to register at granvillelibrary.org/calendar/2019-05
X-ALT-DESC;FMTTYPE=text/html:Create a customized 3D printed travel tag for your next vacation! Basic computer knowledge needed. Teens and adults welcome to register at granvillelibrary.org/calendar/2019-05
LOCATION:Granville Public Library
UID:e.180.12584
SEQUENCE:3
DTSTAMP:20260422T085109Z
URL:http://business.granvilleoh.com/events/details/3d-printing-with-tinkercad-luggage-tags-12584
END:VEVENT

END:VCALENDAR
