BEGIN:VCALENDAR
VERSION:2.0
PRODID:-//ChamberMaster//Event Calendar 2.0//EN
METHOD:PUBLISH
X-PUBLISHED-TTL:P3D
REFRESH-INTERVAL:P3D
CALSCALE:GREGORIAN
BEGIN:VEVENT
DTSTART:20190504T230000Z
DTEND:20190505T010000Z
X-MICROSOFT-CDO-ALLDAYEVENT:FALSE
SUMMARY:44th Annual Denison Film Festival
DESCRIPTION:Denison University's Cinema Department presents the 44th Annual Film Festival.\nThe festival features films by Rezo Arveladze '19\, Abby Bannar '19\, Asher Berkson-Gold '19\, Brian Cropp '19\, Gillian Spivak '20\, Desmond Liang '19\, Alexis Lopez '19\, Peter Mathes '19\, Ethan McAtee '20\, Priscilla Ocasio '19\, Sam O'Malley '19\, Nick Staniszewski '19\, and Oli Waldram '19\, with a special screening by Professor Dave Bussan.
X-ALT-DESC;FMTTYPE=text/html:<span style="background-color:transparent\; color:rgb(0\, 0\, 0)\; font-family:arial\; font-size:11pt">Denison University&rsquo\;s Cinema Department presents the 44th Annual Film Festival.</span>\n<p><span style="background-color:transparent\; color:rgb(0\, 0\, 0)\; font-family:arial\; font-size:11pt">The festival features films by Rezo Arveladze &lsquo\;19\, Abby Bannar &lsquo\;19\, Asher Berkson-Gold &lsquo\;19\, Brian Cropp &lsquo\;19\, Gillian Spivak &lsquo\;20\, Desmond Liang &lsquo\;19\, Alexis Lopez &lsquo\;19\, Peter Mathes &lsquo\;19\, Ethan McAtee &lsquo\;20\, Priscilla Ocasio &lsquo\;19\, Sam O&rsquo\;Malley &lsquo\;19\, Nick Staniszewski &lsquo\;19\, and Oli Waldram &lsquo\;19\, with a special screening by Professor Dave Bussan.</span></p>\n\n<div>&nbsp\;</div>\n
LOCATION:Denison University Auditorium of Slayter Hall 200 Ridge Road
UID:e.180.12634
SEQUENCE:3
DTSTAMP:20260420T065549Z
URL:http://business.granvilleoh.com/events/details/44th-annual-denison-film-festival-12634
END:VEVENT

END:VCALENDAR
