BEGIN:VCALENDAR
VERSION:2.0
PRODID:-//ChamberMaster//Event Calendar 2.0//EN
METHOD:PUBLISH
X-PUBLISHED-TTL:P3D
REFRESH-INTERVAL:P3D
CALSCALE:GREGORIAN
BEGIN:VEVENT
DTSTART:20181216T230000Z
DTEND:20181217T000000Z
X-MICROSOFT-CDO-ALLDAYEVENT:FALSE
SUMMARY:A Candlelight Festival of Lessons and Carols
DESCRIPTION:Denison University Center for Religious and Spiritual Life and Department of Music present a Candlelight Festival of Lessons and Carols.\n\n\n\nThe service will feature the Hilltoppers\, DuWop\, the Lessons and Carols Choir with Kevin N. Wines\, Conductor and Liturgist\, and Phoebe Myhrum\, University Chaplain.
X-ALT-DESC;FMTTYPE=text/html:<span style="background-color:transparent\; color:rgb(0\, 0\, 0)\; font-family:arial\; font-size:11pt">Denison University Center for Religious and Spiritual Life and Department of Music present a Candlelight Festival of Lessons and Carols.</span><br />\n<br />\n<span style="background-color:transparent\; color:rgb(0\, 0\, 0)\; font-family:arial\; font-size:11pt">The service will feature the Hilltoppers\, DuWop\, the Lessons and Carols Choir with Kevin N. Wines\, Conductor and Liturgist\, and Phoebe Myhrum\, University Chaplain.</span>\n<div>&nbsp\;</div>\n
LOCATION:Denison University Swasey Chapel 200 Chapel Drive
UID:e.180.12270
SEQUENCE:3
DTSTAMP:20260420T011402Z
URL:http://business.granvilleoh.com/events/details/a-candlelight-festival-of-lessons-and-carols-12270
END:VEVENT

END:VCALENDAR
