BEGIN:VCALENDAR
VERSION:2.0
PRODID:-//ChamberMaster//Event Calendar 2.0//EN
METHOD:PUBLISH
X-PUBLISHED-TTL:P3D
REFRESH-INTERVAL:P3D
CALSCALE:GREGORIAN
BEGIN:VEVENT
DTSTART:20190911T203000Z
DTEND:20190911T213000Z
X-MICROSOFT-CDO-ALLDAYEVENT:FALSE
SUMMARY:A Conversation About Immersion Writing with Author Anna Badkhen
DESCRIPTION:The Narrative Journalism Program at Denison welcomes author Anna Badkhen presenting conversation about the practice of immersion writing.\n\n\n\nBadkhen grew up behind the Iron Curtain in the Soviet Union\, worked as a war correspondent for 15 years covering conflicts in Africa\, Europe and Asia before turning her attention to writing works of literary nonfiction on the lives of everyday people in extremis.
X-ALT-DESC;FMTTYPE=text/html:<p><span style="color:rgb(69\, 69\, 69)\; font-family:freight sans pro w00\; font-size:19.2px"><span style="font-family:arial\; font-size:11pt">The Narrative Journalism Program at Denison welcomes author Anna Badkhen presenting </span></span><span style="color:rgb(38\, 38\, 38)\; font-family:arial\; font-size:11pt">conversation about the practice of immersion writing.</span><br />\n<br />\n<span style="color:rgb(0\, 0\, 0)\; font-family:arial\; font-size:11pt">Badkhen grew up behind the Iron Curtain in the Soviet Union\, worked as a war correspondent for 15 years covering conflicts in Africa\, Europe and Asia before turning her attention to writing works of literary nonfiction on the lives of everyday people in extremis.</span></p>\n\n<div>&nbsp\;</div>\n\n<div><br />\n&nbsp\;</div>\n
LOCATION:Denison University Barney-Davis Hall Board Room 200 West Loop
UID:e.180.12699
SEQUENCE:3
DTSTAMP:20260422T115320Z
URL:http://business.granvilleoh.com/events/details/a-conversation-about-immersion-writing-with-author-anna-badkhen-12699
END:VEVENT

END:VCALENDAR
