BEGIN:VCALENDAR
VERSION:2.0
PRODID:-//ChamberMaster//Event Calendar 2.0//EN
METHOD:PUBLISH
X-PUBLISHED-TTL:P3D
REFRESH-INTERVAL:P3D
CALSCALE:GREGORIAN
BEGIN:VEVENT
DTSTART:20191024T230000Z
DTEND:20191025T000000Z
X-MICROSOFT-CDO-ALLDAYEVENT:FALSE
SUMMARY:'A New Vocabulary for Ancient Blackness'
DESCRIPTION:The Denison Museum and the Department of Classical Studies welcome Junior Fellow at the Harvard Society of Fellows\, Sarah Derbew\, presenting "A New Vocabulary for Ancient Blackness."\nDerbew's research focuses on critical and self-reflexive theorizations of race and black skin color in ancient Greek literature (tragedy\, historiography\, novel) and art\, from the fifth century BCE to the fourth century CE.\n\nDerbew will be assistant professor of Classics At Stanford University and the Center for Comparative Studies In Race and Ethnicity in the Fall of 2020.
X-ALT-DESC;FMTTYPE=text/html:<span style="background-color:transparent\; color:rgb(0\, 0\, 0)\; font-family:arial\; font-size:11pt">The Denison Museum and the Department of Classical Studies welcome Junior Fellow at the Harvard Society of Fellows\, Sarah Derbew\, presenting &quot\;A New Vocabulary for Ancient Blackness.&quot\;</span>\n<p><span style="background-color:transparent\; color:rgb(0\, 0\, 0)\; font-family:arial\; font-size:11pt">Derbew&rsquo\;s research focuses on critical and self-reflexive theorizations of race and black skin color in ancient Greek literature (tragedy\, historiography\, novel) and art\, from the fifth century BCE to the fourth century CE.</span></p>\n\n<p><span style="background-color:transparent\; color:rgb(0\, 0\, 0)\; font-family:arial\; font-size:11pt">Derbew will be assistant professor of Classics At Stanford University and the Center for Comparative Studies In Race and Ethnicity in the Fall of 2020.&nbsp\;</span></p>\n\n<div>&nbsp\;</div>\n
LOCATION:Denison University Denison Museum in the Michael D. Eisner Center for the Performing Arts 240 West Broadway
UID:e.180.12898
SEQUENCE:3
DTSTAMP:20260422T132137Z
URL:http://business.granvilleoh.com/events/details/a-new-vocabulary-for-ancient-blackness-12898
END:VEVENT

END:VCALENDAR
