BEGIN:VCALENDAR
VERSION:2.0
PRODID:-//ChamberMaster//Event Calendar 2.0//EN
METHOD:PUBLISH
X-PUBLISHED-TTL:P3D
REFRESH-INTERVAL:P3D
CALSCALE:GREGORIAN
BEGIN:VEVENT
DTSTART:20191203T003000Z
DTEND:20191203T020000Z
X-MICROSOFT-CDO-ALLDAYEVENT:FALSE
SUMMARY:A Roundtable Discussion: 'What is Happening in Hong Kong?'
DESCRIPTION:Denison University presents a roundtable discussion\, "What is Happening in Hong Kong?" moderated by Denison's Assistant Professor of History Shao-yun Yang.\nAssociate Professor of Philosophy at Kenyon College Yang Xiao will join Yang for the discussion while Associate Professor of Political Science at the University of Notre Dame Victoria Hui will take part via live stream.\n\nAfter they speak and answer questions\, attendees will be able to ask questions or comment.\n\nThis roundtable discussion is organized by the Department of International Studies\, the Office of Multi-cultural student affairs\, the Department of History and the Department of Global Commerce.
X-ALT-DESC;FMTTYPE=text/html:<span style="background-color:transparent\; color:rgb(0\, 0\, 0)\; font-family:arial\; font-size:11pt">Denison University presents a roundtable discussion\, &quot\;What is Happening in Hong Kong?&quot\; moderated by Denison&#39\;s Assistant Professor of History Shao-yun Yang.</span>\n<p><span style="background-color:transparent\; color:rgb(0\, 0\, 0)\; font-family:arial\; font-size:11pt">Associate Professor of Philosophy at Kenyon College Yang Xiao will join Yang for the discussion while Associate Professor of Political Science at the University of Notre Dame Victoria Hui will take part via live stream.</span></p>\n\n<p><span style="background-color:transparent\; color:rgb(0\, 0\, 0)\; font-family:arial\; font-size:11pt">After they speak and answer questions\, attendees will be able to ask questions or comment.</span></p>\n\n<p><span style="background-color:transparent\; color:rgb(0\, 0\, 0)\; font-family:arial\; font-size:11pt">This roundtable discussion is organized by the Department of International Studies\, the Office of Multi-cultural student affairs\, the Department of History and the Department of Global Commerce.</span></p>\n\n<div>&nbsp\;</div>\n
LOCATION:Denison University Room 115 of the Burton D. Morgan Center 150 Ridge Road
UID:e.180.13992
SEQUENCE:3
DTSTAMP:20260422T161146Z
URL:http://business.granvilleoh.com/events/details/a-roundtable-discussion-what-is-happening-in-hong-kong-13992
END:VEVENT

END:VCALENDAR
