BEGIN:VCALENDAR
VERSION:2.0
PRODID:-//ChamberMaster//Event Calendar 2.0//EN
METHOD:PUBLISH
X-PUBLISHED-TTL:P3D
REFRESH-INTERVAL:P3D
CALSCALE:GREGORIAN
BEGIN:VEVENT
DTSTART:20191215T230000Z
DTEND:20191216T003000Z
X-MICROSOFT-CDO-ALLDAYEVENT:FALSE
SUMMARY:A Service of Lessons and Carols
DESCRIPTION:The Denison Department of Music and the Center for Religious and Spiritual Life present a Service of Lessons and Carols.
X-ALT-DESC;FMTTYPE=text/html:<span style="color:rgb(38\, 38\, 38)\; font-family:freight sans pro w00\; font-size:20.8px">The Denison Department of Music and the Center for Religious and Spiritual Life present a Service of Lessons and Carols.</span>
LOCATION:Denison University Swasey Chapel 200 Chapel Drive
UID:e.180.14003
SEQUENCE:3
DTSTAMP:20260422T161337Z
URL:http://business.granvilleoh.com/events/details/a-service-of-lessons-and-carols-14003
END:VEVENT

END:VCALENDAR
