BEGIN:VCALENDAR
VERSION:2.0
PRODID:-//ChamberMaster//Event Calendar 2.0//EN
METHOD:PUBLISH
X-PUBLISHED-TTL:P3D
REFRESH-INTERVAL:P3D
CALSCALE:GREGORIAN
BEGIN:VEVENT
DTSTART:20180904T233000Z
DTEND:20180905T013000Z
X-MICROSOFT-CDO-ALLDAYEVENT:FALSE
SUMMARY:Activist\, poet and writer Andrea Jenkins
DESCRIPTION:Denison University welcomes activist\, poet and writer Andrea Jenkins as a guest of the Laura C. Harris Series at 7:30 p.m. on Tuesday\, Sept. 4\, at the lecture hall of the Burton D. Morgan Center (150 Ridge Road). The event is free and open to the public.  For more information contact Robin Brown at 740-587-6297\, or visit Denison.edu.\n\n\nJenkins\, a poet\, writer\, activist\, and multimedia visual and performance artist\, uses her art to "to give agency and dignity to transgender and Black people all over the world." In this talk\, "Bag Lady Manifesto #BlackTransLivesMatter\," Jenkins will discuss how she uses art\, oral history projects\, and politics to advance transgender and social justice movements.
X-ALT-DESC;FMTTYPE=text/html:<p><span style="background-color:transparent\; color:rgb(0\, 0\, 0)\; font-family:arial\; font-size:11pt">Denison University welcomes activist\, poet and writer Andrea Jenkins as a guest of the Laura C. Harris Series at 7:30 p.m. on Tuesday\, Sept. 4\, at the lecture hall of the Burton D. Morgan Center (150 Ridge Road). The event is free and open to the public. &nbsp\;For more information contact Robin Brown at 740-587-6297\, or visit Denison.edu.</span></p>\n\n<div>\n<p><span style="background-color:transparent\; color:rgb(0\, 0\, 0)\; font-family:arial\; font-size:11pt">Jenkins\, a poet\, writer\, activist\, and multimedia visual and performance artist\, uses her art to &ldquo\;to give agency and dignity to transgender and Black people all over the world.&rdquo\; In this talk\, &ldquo\;Bag Lady Manifesto #BlackTransLivesMatter\,&rdquo\; Jenkins will discuss how she uses art\, oral history projects\, and politics to advance transgender and social justice movements.</span></p>\n\n<div>&nbsp\;</div>\n</div>\n
LOCATION:Denison University's Burton D. Morgan Center (150 Ridge Road)
UID:e.180.12120
SEQUENCE:3
DTSTAMP:20260419T193556Z
URL:http://business.granvilleoh.com/events/details/activist-poet-and-writer-andrea-jenkins-12120
END:VEVENT

END:VCALENDAR
