BEGIN:VCALENDAR
VERSION:2.0
PRODID:-//ChamberMaster//Event Calendar 2.0//EN
METHOD:PUBLISH
X-PUBLISHED-TTL:P3D
REFRESH-INTERVAL:P3D
CALSCALE:GREGORIAN
BEGIN:VEVENT
DTSTART:20191210T220000Z
DTEND:20191211T000000Z
X-MICROSOFT-CDO-ALLDAYEVENT:FALSE
SUMMARY:Adult Tinkercad: Personalized Gift Tags
DESCRIPTION:Learn to create personalized gift tags using Tinkercad. Register at granvillelibrary.org/calendar
X-ALT-DESC;FMTTYPE=text/html:Learn to create personalized gift tags using Tinkercad. Register at granvillelibrary.org/calendar
LOCATION:Granville Public Library Upper Level
UID:e.180.13968
SEQUENCE:3
DTSTAMP:20260422T184916Z
URL:http://business.granvilleoh.com/events/details/adult-tinkercad-personalized-gift-tags-13968
END:VEVENT

END:VCALENDAR
