BEGIN:VCALENDAR
VERSION:2.0
PRODID:-//ChamberMaster//Event Calendar 2.0//EN
METHOD:PUBLISH
X-PUBLISHED-TTL:P3D
REFRESH-INTERVAL:P3D
CALSCALE:GREGORIAN
BEGIN:VEVENT
DTSTART:20191112T220000Z
DTEND:20191113T000000Z
X-MICROSOFT-CDO-ALLDAYEVENT:FALSE
SUMMARY:Adult Tinkercad: Personalized Holiday Decoration
DESCRIPTION:Make a small holiday ornament personalized with a name. Register at granvillelibrary.org/calendar
X-ALT-DESC;FMTTYPE=text/html:Make a small holiday ornament personalized with a name. Register at granvillelibrary.org/calendar
LOCATION:Granville Public Library
UID:e.180.13940
SEQUENCE:3
DTSTAMP:20260422T161422Z
URL:http://business.granvilleoh.com/events/details/adult-tinkercad-personalized-holiday-decoration-13940
END:VEVENT

END:VCALENDAR
