BEGIN:VCALENDAR
VERSION:2.0
PRODID:-//ChamberMaster//Event Calendar 2.0//EN
METHOD:PUBLISH
X-PUBLISHED-TTL:P3D
REFRESH-INTERVAL:P3D
CALSCALE:GREGORIAN
BEGIN:VEVENT
DTSTART:20190409T210000Z
DTEND:20190409T230000Z
X-MICROSOFT-CDO-ALLDAYEVENT:FALSE
SUMMARY:Advanced Computer Class: Buying and Selling Online
DESCRIPTION:Learn about buying and selling online with companies like eBay\, Facebook Marketplace\, and Craigslist. Tips and tricks for selling safely! Registration required via website's calendar.
X-ALT-DESC;FMTTYPE=text/html:Learn about buying and selling online with companies like eBay\, Facebook Marketplace\, and Craigslist. Tips and tricks for selling safely! Registration required via website&#39\;s calendar.
LOCATION:Granville Public Library
UID:e.180.12550
SEQUENCE:3
DTSTAMP:20260420T050500Z
URL:http://business.granvilleoh.com/events/details/advanced-computer-class-buying-and-selling-online-12550
END:VEVENT

END:VCALENDAR
