BEGIN:VCALENDAR
VERSION:2.0
PRODID:-//ChamberMaster//Event Calendar 2.0//EN
METHOD:PUBLISH
X-PUBLISHED-TTL:P3D
REFRESH-INTERVAL:P3D
CALSCALE:GREGORIAN
BEGIN:VEVENT
DTSTART:20190601T140000Z
DTEND:20190601T160000Z
X-MICROSOFT-CDO-ALLDAYEVENT:FALSE
SUMMARY:All Together Now: Book Swap
DESCRIPTION:During the week prior to the Book Swap\, bring up to five very good condition books for ages birth through 6th grade\, teens\, or adults to the Children's Department. You will receive a ticket for each accepted book to exchange for a new-to-you book during the Book Swap on June 1. Book drop off: Saturday\, May 25 through Friday\, May 31 Book Swap event: Saturday\, June 1\, 10am-noon
X-ALT-DESC;FMTTYPE=text/html:During the week prior to the Book Swap\, bring up to five very good condition books for ages birth through 6th grade\, teens\, or adults to the Children&#39\;s Department. You will receive a ticket for each accepted book to exchange for a new-to-you book during the Book Swap on June 1. Book drop off: Saturday\, May 25 through Friday\, May 31 Book Swap event: Saturday\, June 1\, 10am-noon
LOCATION:Granville Public Library
UID:e.180.12631
SEQUENCE:3
DTSTAMP:20260422T085237Z
URL:http://business.granvilleoh.com/events/details/all-together-now-book-swap-12631
END:VEVENT

END:VCALENDAR
