BEGIN:VCALENDAR
VERSION:2.0
PRODID:-//ChamberMaster//Event Calendar 2.0//EN
METHOD:PUBLISH
X-PUBLISHED-TTL:P3D
REFRESH-INTERVAL:P3D
CALSCALE:GREGORIAN
BEGIN:VEVENT
DTSTART:20190208T230000Z
DTEND:20190209T010000Z
X-MICROSOFT-CDO-ALLDAYEVENT:FALSE
SUMMARY:All Together Now: Puzzle Competition
DESCRIPTION:Teams will compete to see who can finish their jigsaw puzzle first. Create your own team of 6 or we'll assign you to one. We'll be running two competitions concurrently. In the Children's Department\, families with children in kindergarten and up will be competing with 500 piece puzzles. On the main level\, older families and patrons 7th grade and up will compete with 1000 piece puzzles. To register for 500 piece competition\, https://www.granvillelibrary.org/content/all-together-now-puzzle-competition To register for the 1000 piece competition\, https://www.granvillelibrary.org/content/all-together-now-puzzle-competition-750-piece
X-ALT-DESC;FMTTYPE=text/html:Teams will compete to see who can finish their jigsaw puzzle first. Create your own team of 6 or we&#39\;ll assign you to one. We&#39\;ll be running two competitions concurrently. In the Children&#39\;s Department\, families with children in kindergarten and up will be competing with 500 piece puzzles. On the main level\, older families and patrons 7th grade and up will compete with 1000 piece puzzles. To register for 500 piece competition\, https://www.granvillelibrary.org/content/all-together-now-puzzle-competition To register for the 1000 piece competition\, https://www.granvillelibrary.org/content/all-together-now-puzzle-competition-750-piece
LOCATION:Granville Public Library
UID:e.180.12314
SEQUENCE:3
DTSTAMP:20260420T022626Z
URL:http://business.granvilleoh.com/events/details/all-together-now-puzzle-competition-12314
END:VEVENT

END:VCALENDAR
