BEGIN:VCALENDAR
VERSION:2.0
PRODID:-//ChamberMaster//Event Calendar 2.0//EN
METHOD:PUBLISH
X-PUBLISHED-TTL:P3D
REFRESH-INTERVAL:P3D
CALSCALE:GREGORIAN
BEGIN:VEVENT
DTSTART:20191213T230000Z
DTEND:20191214T003000Z
X-MICROSOFT-CDO-ALLDAYEVENT:FALSE
SUMMARY:Amazing Race: Run\, Run Rudolph!
DESCRIPTION:Santa's not the only one traveling the globe on a deadline! It's a race around the world(-ish) where you will complete challenges and race other teams to get home to the North Pole First. Exclusively for grades 7-12.
X-ALT-DESC;FMTTYPE=text/html:Santa&#39\;s not the only one traveling the globe on a deadline! It&#39\;s a race around the world(-ish) where you will complete challenges and race other teams to get home to the North Pole First. Exclusively for grades 7-12.
LOCATION:Granville Public Library
UID:e.180.13970
SEQUENCE:3
DTSTAMP:20260422T161115Z
URL:http://business.granvilleoh.com/events/details/amazing-race-run-run-rudolph-13970
END:VEVENT

END:VCALENDAR
