BEGIN:VCALENDAR
VERSION:2.0
PRODID:-//ChamberMaster//Event Calendar 2.0//EN
METHOD:PUBLISH
X-PUBLISHED-TTL:P3D
REFRESH-INTERVAL:P3D
CALSCALE:GREGORIAN
BEGIN:VEVENT
DTSTART:20190615T150000Z
DTEND:20190615T170000Z
X-MICROSOFT-CDO-ALLDAYEVENT:FALSE
SUMMARY:Anti-Matter Craft Supply Swap
DESCRIPTION:Time to clean out your craft supplies? Have crafts your kids have outgrown? Want to try a new craft but don't want to spend a lot of money? Then come to our craft swap! Drop off your unused or leftover craft supplies that are in good condition June 8-14. No paint and please only bring items that you would be willing to take home. Receive an Early Bird Entry ticket for special event access with your donation. Early Bird Entry 10-11AM General Entry 11 AM-1 PM
X-ALT-DESC;FMTTYPE=text/html:Time to clean out your craft supplies? Have crafts your kids have outgrown? Want to try a new craft but don&#39\;t want to spend a lot of money? Then come to our craft swap! Drop off your unused or leftover craft supplies that are in good condition June 8-14. No paint and please only bring items that you would be willing to take home. Receive an Early Bird Entry ticket for special event access with your donation. Early Bird Entry 10-11AM General Entry 11 AM-1 PM
LOCATION:Granville Public Library
UID:e.180.12668
SEQUENCE:3
DTSTAMP:20260422T085159Z
URL:http://business.granvilleoh.com/events/details/anti-matter-craft-supply-swap-12668
END:VEVENT

END:VCALENDAR
