BEGIN:VCALENDAR
VERSION:2.0
PRODID:-//ChamberMaster//Event Calendar 2.0//EN
METHOD:PUBLISH
X-PUBLISHED-TTL:P3D
REFRESH-INTERVAL:P3D
CALSCALE:GREGORIAN
BEGIN:VEVENT
DTSTART:20180918T230000Z
DTEND:20180919T003000Z
X-MICROSOFT-CDO-ALLDAYEVENT:FALSE
SUMMARY:Are We Destined to Be Enemies? US-Russian Relations in Historical Perspective
DESCRIPTION:Pietro Shakarian\, PhD Candidate in History at the Ohio State University\, will discuss US-Russian relations\, specifically focusing on the end of the Cold War\, the subsequent developments in Russia that led to Putin's rise and to the current tension in US-Russian relations. Reagan-Gorbachev d tente\, NATO expansion\, and differing interpretations about the ways in which the Cold War ended will also be discussed.
X-ALT-DESC;FMTTYPE=text/html:Pietro Shakarian\, PhD Candidate in History at the Ohio State University\, will discuss US-Russian relations\, specifically focusing on the end of the Cold War\, the subsequent developments in Russia that led to Putin&#39\;s rise and to the current tension in US-Russian relations. Reagan-Gorbachev d&eacute\;tente\, NATO expansion\, and differing interpretations about the ways in which the Cold War ended will also be discussed.
LOCATION:Granville Public Library
UID:e.180.12108
SEQUENCE:3
DTSTAMP:20260419T193642Z
URL:http://business.granvilleoh.com/events/details/are-we-destined-to-be-enemies-us-russian-relations-in-historical-perspective-12108
END:VEVENT

END:VCALENDAR
