BEGIN:VCALENDAR
VERSION:2.0
PRODID:-//ChamberMaster//Event Calendar 2.0//EN
METHOD:PUBLISH
X-PUBLISHED-TTL:P3D
REFRESH-INTERVAL:P3D
CALSCALE:GREGORIAN
BEGIN:VEVENT
DTSTART:20190426T190000Z
DTEND:20190426T230000Z
X-MICROSOFT-CDO-ALLDAYEVENT:FALSE
SUMMARY:Artist Talk and Opening Reception: 'The World is Round'
DESCRIPTION:Denison Art Space in Newark holds an artist talk and opening reception for "The World is Round" a Senior Art Exhibition. Artist talk at 3 p.m. and opening reception at 5 p.m. \nThe artworks presented in this exhibition - ranging from painting and drawing\, to photography and digital media\, and to ceramics and sculpture\, mark the completion of four years at the Denison Studio Art Program for fifteen senior majors. In this last year\, they were challenged conceptually through their senior practicum course with their professors\, but most importantly\, through their interactions with each other. Through critique and discourse\, students discovered how different they are from each other. They are all bound in difference. The works in the exhibition speak to a variance of topics\, ranging from global and national issues to personal explorations of the self. The works by these fifteen artists are an amalgamation of ideas and concepts that have been birthed through dialogue with each other and the world.  It is difficult understanding what fifteen people from all over the world have in common. What cannot be disputed\, though\, is the way that national and international issues have affected the ways in which each of these artists views themselves\, their practices\, their relationship with one another\, and the earth itself. In an era of political uncertainty and global tensions\, they are all comforted by a universal truth.\n\nStudent Transportation Provided from the Mitchell Center.
X-ALT-DESC;FMTTYPE=text/html:<span style="background-color:transparent\; color:rgb(0\, 0\, 0)\; font-family:arial\; font-size:11pt">Denison Art Space in Newark holds an artist talk and opening reception for &quot\;The World is Round&quot\; a Senior Art Exhibition. Artist talk at 3 p.m. and opening reception at 5 p.m.&nbsp\;</span>\n<p><span style="background-color:transparent\; color:rgb(0\, 0\, 0)\; font-family:arial\; font-size:11pt">The artworks presented in this exhibition - ranging from painting and drawing\, to photography and digital media\, and to ceramics and sculpture\, mark the completion of four years at the Denison Studio Art Program for fifteen senior majors. In this last year\, they were challenged conceptually through their senior practicum course with their professors\, but most importantly\, through their interactions with each other. Through critique and discourse\, students discovered how different they are from each other. They are all bound in difference. The works in the exhibition speak to a variance of topics\, ranging from global and national issues to personal explorations of the self. The works by these fifteen artists are an amalgamation of ideas and concepts that have been birthed through dialogue with each other and the world. &nbsp\;It is difficult understanding what fifteen people from all over the world have in common. What cannot be disputed\, though\, is the way that national and international issues have affected the ways in which each of these artists views themselves\, their practices\, their relationship with one another\, and the earth itself. In an era of political uncertainty and global tensions\, they are all comforted by a universal truth.</span></p>\n\n<p><span style="background-color:transparent\; color:rgb(0\, 0\, 0)\; font-family:arial\; font-size:11pt">Student Transportation Provided from the Mitchell Center.</span></p>\n<br />\n<br />\n&nbsp\;
LOCATION:Denison Art Space in Newark 23 West Church
UID:e.180.12633
SEQUENCE:3
DTSTAMP:20260420T050942Z
URL:http://business.granvilleoh.com/events/details/artist-talk-and-opening-reception-the-world-is-round-12633
END:VEVENT

END:VCALENDAR
