BEGIN:VCALENDAR
VERSION:2.0
PRODID:-//ChamberMaster//Event Calendar 2.0//EN
METHOD:PUBLISH
X-PUBLISHED-TTL:P3D
REFRESH-INTERVAL:P3D
CALSCALE:GREGORIAN
BEGIN:VEVENT
DTSTART:20191101T203000Z
DTEND:20191101T230000Z
X-MICROSOFT-CDO-ALLDAYEVENT:FALSE
SUMMARY:Artist Talk and Opening Reception with Vail Visiting Artist Yue Nakayama
DESCRIPTION:Denison University welcomes Vail Visiting Artist and Denison alumnus Yue Nakayama presenting an artist talk and a screening of her work followed by an opening reception.\nNakayama is a Houston based artist and filmmaker whose work addresses interpersonal communications within multicultural environments and across belief systems. She uses both documentary and fictional narrative strategies in her video work.\n\nArtist Talk and Screening: at 4:30 p.m. in the Cinema Building (201 North Mulberry)\n\nOpening Reception: at 5:30 p.m. in the Bryants Arts Center Gallery 403 (210 West College)\n\nExhibition will be on display from Friday\, Nov. 1 - Friday\, Nov. 29 in the Bryants Arts Center Gallery 403 (210 West College)
X-ALT-DESC;FMTTYPE=text/html:<span style="background-color:transparent\; color:rgb(0\, 0\, 0)\; font-family:arial\; font-size:11pt">Denison University welcomes Vail Visiting Artist and Denison alumnus Yue Nakayama presenting an artist talk and a screening of her work followed by an opening reception.</span>\n<p><span style="background-color:transparent\; color:rgb(0\, 0\, 0)\; font-family:arial\; font-size:11pt">Nakayama is a Houston based artist and filmmaker whose work addresses interpersonal communications within multicultural environments and across belief systems. She uses both documentary and fictional narrative strategies in her video work.</span></p>\n\n<p><span style="background-color:transparent\; color:rgb(0\, 0\, 0)\; font-family:arial\; font-size:11pt">Artist Talk and Screening: at 4:30 p.m. in the Cinema Building (201 North Mulberry)</span></p>\n\n<p><span style="background-color:transparent\; color:rgb(0\, 0\, 0)\; font-family:arial\; font-size:11pt">Opening Reception: at 5:30 p.m. in the Bryants Arts Center Gallery 403 (210 West College)</span></p>\n\n<p><span style="background-color:transparent\; color:rgb(0\, 0\, 0)\; font-family:arial\; font-size:11pt">Exhibition will be on display from Friday\, Nov. 1 - Friday\, Nov. 29 in the Bryants Arts Center Gallery 403 (210 West College)</span></p>\n\n<div>&nbsp\;</div>\n
LOCATION:Denison University
UID:e.180.13952
SEQUENCE:3
DTSTAMP:20260422T145106Z
URL:http://business.granvilleoh.com/events/details/artist-talk-and-opening-reception-with-vail-visiting-artist-yue-nakayama-13952
END:VEVENT

END:VCALENDAR
