BEGIN:VCALENDAR
VERSION:2.0
PRODID:-//ChamberMaster//Event Calendar 2.0//EN
METHOD:PUBLISH
X-PUBLISHED-TTL:P3D
REFRESH-INTERVAL:P3D
CALSCALE:GREGORIAN
BEGIN:VEVENT
DTSTART:20190413T203000Z
DTEND:20190413T213000Z
X-MICROSOFT-CDO-ALLDAYEVENT:FALSE
SUMMARY:Artist Talk with David Antonio Cruz
DESCRIPTION:Denison University's Studio Art Program\, Queer Studies\, Modern Languages Department\, Foresman Fund and Latin American and Caribbean Studies welcomes multidisciplinary artist and a Professor of the Practice in Painting and Drawing at the School of the Museum of Fine Arts at Tufts University David Antonio Cruz presenting an artist talk.\nCruz fuses painting and performance to explore the visibility and intersectionality of brown\, black\, and queer bodies. Cruz received a Bachelor of Fine Arts in painting from Pratt Institute and an Master of Fine Arts from Yale University. He attended Skowhegan School of Painting and Sculpture and completed the AIM Program at the Bronx Museum. Recent residencies include the LMCC Workspace Residency\, Project for Empty Space's Social Impact Residency\, and BRICworkspace. Cruz's work has been included in notable group exhibitions at the Smithsonian National Portrait Gallery\, Brooklyn Museum\, El Museo del Barrio\, Performa 13\, and the McNay Art Museum. His fellowships and awards include the Joan Mitchell Foundation Painters & Sculptors Award\, the Franklin Furnace Fund Award\, the Urban Artist Initiative Award\, the Queer Mentorship Fellowship\, and the Neubauer Faculty Fellowship at Tufts University. Recent press includes The New York Times\, Wall Street Journal\, WhiteHot Magazine\, W Magazine\, Bomb Magazine\, and El Centro Journal.\n\nThe artist talk is in conjunction with SOL: Ohio Summit of Latinx conference.
X-ALT-DESC;FMTTYPE=text/html:<span style="background-color:transparent\; color:rgb(0\, 0\, 0)\; font-family:arial\; font-size:11pt">Denison University&#39\;s Studio Art Program\, Queer Studies\, </span><span style="color:rgb(34\, 34\, 34)\; font-family:arial\; font-size:11pt">Modern Languages Department\, Foresman Fund </span><span style="background-color:transparent\; color:rgb(0\, 0\, 0)\; font-family:arial\; font-size:11pt">and Latin American and Caribbean Studies welcomes multidisciplinary artist and a Professor of the Practice in Painting and Drawing at the School of the Museum of Fine Arts at Tufts University David Antonio Cruz presenting an artist talk.</span>\n<p><span style="background-color:transparent\; color:rgb(0\, 0\, 0)\; font-family:arial\; font-size:11pt">Cruz fuses painting and performance to explore the visibility and intersectionality of brown\, black\, and queer bodies. Cruz received a Bachelor of Fine Arts in painting from Pratt Institute and an Master of Fine Arts from Yale University. He attended Skowhegan School of Painting and Sculpture and completed the AIM Program at the Bronx Museum. Recent residencies include the LMCC Workspace Residency\, Project for Empty Space&rsquo\;s Social Impact Residency\, and BRICworkspace. Cruz&rsquo\;s work has been included in notable group exhibitions at the Smithsonian National Portrait Gallery\, Brooklyn Museum\, El Museo del Barrio\, Performa 13\, and the McNay Art Museum. His fellowships and awards include the Joan Mitchell Foundation Painters &amp\; Sculptors Award\, the Franklin Furnace Fund Award\, the Urban Artist Initiative Award\, the Queer Mentorship Fellowship\, and the Neubauer Faculty Fellowship at Tufts University. Recent press includes The New York Times\, Wall Street Journal\, WhiteHot Magazine\, W Magazine\, Bomb Magazine\, and El Centro Journal.</span></p>\n\n<p><span style="background-color:transparent\; color:rgb(0\, 0\, 0)\; font-family:arial\; font-size:11pt">The artist talk is </span><span style="color:rgb(34\, 34\, 34)\; font-family:arial\; font-size:11pt">in conjunction with SOL: Ohio Summit of Latinx conference.</span></p>\n<br />\n&nbsp\;
LOCATION:Denison University Knapp Performance Lab 300 Ridge Road
UID:e.180.12613
SEQUENCE:3
DTSTAMP:20260420T050938Z
URL:http://business.granvilleoh.com/events/details/artist-talk-with-david-antonio-cruz-12613
END:VEVENT

END:VCALENDAR
