BEGIN:VCALENDAR
VERSION:2.0
PRODID:-//ChamberMaster//Event Calendar 2.0//EN
METHOD:PUBLISH
X-PUBLISHED-TTL:P3D
REFRESH-INTERVAL:P3D
CALSCALE:GREGORIAN
BEGIN:VEVENT
DTSTART:20190201T230000Z
DTEND:20190202T000000Z
X-MICROSOFT-CDO-ALLDAYEVENT:FALSE
SUMMARY:Artist Talk with Faye Driscoll
DESCRIPTION:Denison University's Department of Dance welcomes award winning choreographer\, Faye Driscoll for an artist talk.\n\nDriscoll's work encompasses performance\, installation and audience interaction.
X-ALT-DESC;FMTTYPE=text/html:<p>Denison University&rsquo\;s Department of Dance welcomes award winning choreographer\, Faye Driscoll for an artist talk.</p>\n\n<p>Driscoll&rsquo\;s work encompasses performance\, installation and audience interaction.</p>\n
LOCATION:Denison University Knapp Performance Space 300 Ridge Road
UID:e.180.12410
SEQUENCE:3
DTSTAMP:20260420T023015Z
URL:http://business.granvilleoh.com/events/details/artist-talk-with-faye-driscoll-12410
END:VEVENT

END:VCALENDAR
