BEGIN:VCALENDAR
VERSION:2.0
PRODID:-//ChamberMaster//Event Calendar 2.0//EN
METHOD:PUBLISH
X-PUBLISHED-TTL:P3D
REFRESH-INTERVAL:P3D
CALSCALE:GREGORIAN
BEGIN:VEVENT
DTSTART:20190909T223000Z
DTEND:20190909T233000Z
X-MICROSOFT-CDO-ALLDAYEVENT:FALSE
SUMMARY:Artist talk with John Donnelly and Karen Snouffer
DESCRIPTION:Denison University presents an artist talk with professor of art at Mount Vernon Nazarene University John Donnelly and Professor Emerita at Kenyon College Karen Snouffer.\nDonnelly and Snouffer will discuss their collaborative exhibition "Between Worlds."
X-ALT-DESC;FMTTYPE=text/html:<span style="background-color:transparent\; color:rgb(0\, 0\, 0)\; font-family:arial\; font-size:11pt">Denison University presents an artist talk with professor of art at Mount Vernon Nazarene University John Donnelly and Professor Emerita at Kenyon College Karen Snouffer.</span>\n<p><span style="background-color:transparent\; color:rgb(0\, 0\, 0)\; font-family:arial\; font-size:11pt">Donnelly and Snouffer will discuss their collaborative exhibition &quot\;Between Worlds.&quot\;&nbsp\;</span></p>\n\n<div>&nbsp\;</div>\n
LOCATION:Denison University Knapp Performance Space 300 Ridge Road
UID:e.180.12756
SEQUENCE:3
DTSTAMP:20260422T115815Z
URL:http://business.granvilleoh.com/events/details/artist-talk-with-john-donnelly-and-karen-snouffer-12756
END:VEVENT

END:VCALENDAR
