BEGIN:VCALENDAR
VERSION:2.0
PRODID:-//ChamberMaster//Event Calendar 2.0//EN
METHOD:PUBLISH
X-PUBLISHED-TTL:P3D
REFRESH-INTERVAL:P3D
CALSCALE:GREGORIAN
BEGIN:VEVENT
DTSTART:20190311T230000Z
DTEND:20190312T000000Z
X-MICROSOFT-CDO-ALLDAYEVENT:FALSE
SUMMARY:Artist Talk with Molly Shanahan
DESCRIPTION:Denison University's Department of Dance welcomes Denison alumna Molly Shanahan presenting an artist talk.\n\n\n\nShanahan will discuss and share aspects of her dancemaking process and movement research\, focusing on the ensemble work "Of Whales\, Time\, and Your Last Attempt to Reach Me\," which will be shown at Denison on Thursday and Friday\, March 29 and 30.
X-ALT-DESC;FMTTYPE=text/html:<span style="background-color:transparent\; color:rgb(0\, 0\, 0)\; font-family:arial\; font-size:11pt">Denison University&rsquo\;s Department of Dance welcomes Denison alumna Molly Shanahan presenting an artist talk.<br />\n<br />\nShanahan will discuss and share aspects of her dancemaking process and movement research\, focusing on the ensemble work &quot\;Of Whales\, Time\, and Your Last Attempt to Reach Me\,&quot\; which will be shown at Denison on Thursday and Friday\, March 29 and 30.</span>
LOCATION:Denison University Performance Lab of Knapp Hall 300 Ridge Road
UID:e.180.12519
SEQUENCE:3
DTSTAMP:20260420T035048Z
URL:http://business.granvilleoh.com/events/details/artist-talk-with-molly-shanahan-12519
END:VEVENT

END:VCALENDAR
