BEGIN:VCALENDAR
VERSION:2.0
PRODID:-//ChamberMaster//Event Calendar 2.0//EN
METHOD:PUBLISH
X-PUBLISHED-TTL:P3D
REFRESH-INTERVAL:P3D
CALSCALE:GREGORIAN
BEGIN:VEVENT
DTSTART:20190306T010000Z
DTEND:20190306T020000Z
X-MICROSOFT-CDO-ALLDAYEVENT:FALSE
SUMMARY:Artist Talk with Nathalie Miebach
DESCRIPTION:The Denison Museum welcomes Nathalie Miebach presenting an artist talk with a special musical performance of her work by Denison's ensemble-in-residence\, Ethel.\n\nMiebach explores the intersections of art and science by translating scientific data related to meteorology\, ecology\, and oceanography into woven sculptures\, musical scores\, and installations. Miebach examines digital technologies and traditional crafts combine to give a more nuanced expression and understanding of information.
X-ALT-DESC;FMTTYPE=text/html:<p><span style="font-family:arial\; font-size:14.6667px">The Denison Museum welcomes </span>Nathalie Miebach presenting an artist talk&nbsp\;<span style="color:rgb(0\, 0\, 0)\; font-family:verdana\,geneva\,sans-serif\; font-size:12px">with a&nbsp\;</span><span style="color:rgb(0\, 0\, 0)\; font-family:arial\; font-size:11pt">special musical performance of her work by Denison&#39\;s ensemble-in-residence\,</span><span style="color:rgb(84\, 84\, 84)\; font-family:arial\; font-size:11pt">&nbsp\;</span><span style="color:rgb(0\, 0\, 0)\; font-family:arial\; font-size:11pt">Ethel.</span></p>\n\n<p><span style="color:rgb(0\, 0\, 0)\; font-family:arial\; font-size:11pt">Miebach explores the intersections of art and science by translating scientific data related to meteorology\, ecology\, and oceanography into woven sculptures\, musical scores\, and installations. Miebach examines digital technologies and traditional crafts combine to give a more nuanced expression and understanding of information.</span></p>\n
LOCATION:Denison University Denison Museum 240 West Broadway
UID:e.180.12398
SEQUENCE:3
DTSTAMP:20260420T035832Z
URL:http://business.granvilleoh.com/events/details/artist-talk-with-nathalie-miebach-12398
END:VEVENT

END:VCALENDAR
