BEGIN:VCALENDAR
VERSION:2.0
PRODID:-//ChamberMaster//Event Calendar 2.0//EN
METHOD:PUBLISH
X-PUBLISHED-TTL:P3D
REFRESH-INTERVAL:P3D
CALSCALE:GREGORIAN
BEGIN:VEVENT
DTSTART:20190422T223000Z
DTEND:20190422T233000Z
X-MICROSOFT-CDO-ALLDAYEVENT:FALSE
SUMMARY:Artist Talk with Ryan Parker
DESCRIPTION:Denison University's Studio Art Program\, Queer Studies and Vail Visiting Artist Series welcomes Ryan Parker\, the Grant Wood Fellow in Printmaking at The University of Iowa and a visiting assistant professor presenting an artist talk.\nParker grew up in Florida and received his Master of Fine Arts in printmaking from Tyler School of Art\, Temple University in Rome\, Italy and Philadelphia. His printed works on paper and fabric employ architectural forms and its patterned motifs to explore psychological space and create personal narrative. The prints that he makes are also informed by his interest in travel which has led him to participate in artist residencies at Frans Masereel Centrum (Belgium)\, Cork Printmakers (Ireland)\, and Ballinglen (Ireland). Parker was also awarded a 2017 18 Fulbright-Nehru Fellowship which brought him to India. His research included studying ancient architecture as well as the traditional\, sustainable production methods of India's fabric arts in particular\, block printing\, hand painting (kalamkari)\, and the use of natural pigments. Additionally\, Parker has worked as a museum educator at The Fabric Workshop and Museum in Philadelphia\, instructing textile design and screen printing in the Post-Graduate Apprenticeship.
X-ALT-DESC;FMTTYPE=text/html:<span style="background-color:transparent\; color:rgb(0\, 0\, 0)\; font-family:arial\; font-size:11pt">Denison University&rsquo\;s Studio Art Program\, Queer Studies and Vail Visiting Artist Series welcomes Ryan Parker\, the Grant Wood Fellow in Printmaking at The University of Iowa and a visiting assistant professor presenting an artist talk.</span>\n<p><span style="background-color:transparent\; color:rgb(0\, 0\, 0)\; font-family:arial\; font-size:11pt">Parker grew up in Florida and received his Master of Fine Arts in printmaking from Tyler School of Art\, Temple University in Rome\, Italy and Philadelphia. His printed works on paper and fabric employ architectural forms and its patterned motifs to explore psychological space and create personal narrative. The prints that he makes are also informed by his interest in travel&mdash\;which has led him to participate in artist residencies at Frans Masereel Centrum (Belgium)\, Cork Printmakers (Ireland)\, and Ballinglen (Ireland). Parker was also awarded a 2017&ndash\;18 Fulbright-Nehru Fellowship which brought him to India. His research included studying ancient architecture as well as the traditional\, sustainable production methods of India&rsquo\;s fabric arts&mdash\;in particular\, block printing\, hand painting (kalamkari)\, and the use of natural pigments. Additionally\, Parker has worked as a museum educator at The Fabric Workshop and Museum in Philadelphia\, instructing textile design and screen printing in the Post-Graduate Apprenticeship.</span></p>\n\n<div>&nbsp\;</div>\n
LOCATION:Denison University Knapp Performance Lab 300 Ridge Road
UID:e.180.12615
SEQUENCE:3
DTSTAMP:20260420T050754Z
URL:http://business.granvilleoh.com/events/details/artist-talk-with-ryan-parker-12615
END:VEVENT

END:VCALENDAR
