BEGIN:VCALENDAR
VERSION:2.0
PRODID:-//ChamberMaster//Event Calendar 2.0//EN
METHOD:PUBLISH
X-PUBLISHED-TTL:P3D
REFRESH-INTERVAL:P3D
CALSCALE:GREGORIAN
BEGIN:VEVENT
DTSTART:20191015T203000Z
DTEND:20191015T213000Z
X-MICROSOFT-CDO-ALLDAYEVENT:FALSE
SUMMARY:Artist Talk with Vail visiting artist Andy Campbell
DESCRIPTION:The Denison Museum presents an Artist Talk with Vail visiting artist Andy Campbell.\nCampbell is a historian\, critic\, and curator of art and design. His work examines the intersections of identity-based political movements/communities and visual and material cultures. Campbell's book "Queer X Design: 50 Years of Signs\, Symbols\, Banners\, Logos\, and Graphic Art of LGBTQ" is the first-ever illustrated history of the iconic designs that have shaped contemporary queer politics. His writings have also appeared in Artforum\, Aperture\, and Terremoto\, and he is an assistant professor of Critical Studies at the University of Southern California.
X-ALT-DESC;FMTTYPE=text/html:<div><span style="background-color:transparent\; color:rgb(0\, 0\, 0)\; font-family:arial\; font-size:11pt">The Denison Museum presents an Artist Talk with Vail visiting artist Andy Campbell.</span>\n<p><span style="background-color:transparent\; color:rgb(0\, 0\, 0)\; font-family:arial\; font-size:11pt">Campbell is a historian\, critic\, and curator of art and design. His work examines the intersections of identity-based political movements/communities and visual and material cultures. Campbell&#39\;s book &quot\;Queer X Design: 50 Years of Signs\, Symbols\, Banners\, Logos\, and Graphic Art of LGBTQ&quot\; is the first-ever illustrated history of the iconic designs that have shaped contemporary queer politics. His writings have also appeared in Artforum\, Aperture\, and Terremoto\, and he is an assistant professor of Critical Studies at the University of Southern California.</span></p>\n\n<div>&nbsp\;</div>\n<br />\n&nbsp\;</div>\n\n<div>&nbsp\;</div>\n
LOCATION:Denison University Denison Museum in the Michael D. Eisner Center for the Performing Arts 240 West Broadway
UID:e.180.12909
SEQUENCE:3
DTSTAMP:20260422T132238Z
URL:http://business.granvilleoh.com/events/details/artist-talk-with-vail-visiting-artist-andy-campbell-12909
END:VEVENT

END:VCALENDAR
