BEGIN:VCALENDAR
VERSION:2.0
PRODID:-//ChamberMaster//Event Calendar 2.0//EN
METHOD:PUBLISH
X-PUBLISHED-TTL:P3D
REFRESH-INTERVAL:P3D
CALSCALE:GREGORIAN
BEGIN:VEVENT
DTSTART:20191105T233000Z
DTEND:20191106T003000Z
X-MICROSOFT-CDO-ALLDAYEVENT:FALSE
SUMMARY:Artist talk with Vail Visiting Artist David Allyn
DESCRIPTION:Denison University welcomes Vail visiting artist David Allyn presenting an artist talk.\nAllyn?s work is an investigation into the evolution of urban space and culture at the intersection of ceramics and printmaking.
X-ALT-DESC;FMTTYPE=text/html:<span style="background-color:transparent\; color:rgb(0\, 0\, 0)\; font-family:arial\; font-size:11pt">Denison University welcomes Vail visiting artist David Allyn presenting an artist talk.</span>\n<p><span style="background-color:transparent\; color:rgb(0\, 0\, 0)\; font-family:arial\; font-size:11pt">Allyn?s work is an investigation into the evolution of urban space and culture at the intersection of ceramics and printmaking.</span></p>\n\n<div>&nbsp\;</div>\n\n<div>&nbsp\;</div>\n
LOCATION:Denison University Knapp Performance Lab 300 Ridge Road
UID:e.180.13966
SEQUENCE:3
DTSTAMP:20260422T161146Z
URL:http://business.granvilleoh.com/events/details/artist-talk-with-vail-visiting-artist-david-allyn-13966
END:VEVENT

END:VCALENDAR
