BEGIN:VCALENDAR
VERSION:2.0
PRODID:-//ChamberMaster//Event Calendar 2.0//EN
METHOD:PUBLISH
X-PUBLISHED-TTL:P3D
REFRESH-INTERVAL:P3D
CALSCALE:GREGORIAN
BEGIN:VEVENT
DTSTART:20191114T233000Z
DTEND:20191115T004500Z
X-MICROSOFT-CDO-ALLDAYEVENT:FALSE
SUMMARY:Artist talk with Vail Visiting Artist Kimo Nelson
DESCRIPTION:Denison University welcomes Vail visiting artist Kimo Nelson presenting an artist talk.\nNelson is a painter whose extensive travel\, and backcountry wilderness experiences provide the foundation for his artistic practice.
X-ALT-DESC;FMTTYPE=text/html:<span style="background-color:transparent\; color:rgb(0\, 0\, 0)\; font-family:arial\; font-size:11pt">Denison University welcomes Vail visiting artist Kimo Nelson presenting an artist talk.</span>\n<p><span style="background-color:transparent\; color:rgb(0\, 0\, 0)\; font-family:arial\; font-size:11pt">Nelson is a painter whose extensive travel\, and backcountry wilderness experiences provide the foundation for his artistic practice.</span></p>\n\n<div>&nbsp\;</div>\n
LOCATION:Denison University Knapp Performance Lab 300 Ridge Road
UID:e.180.13953
SEQUENCE:3
DTSTAMP:20260422T144259Z
URL:http://business.granvilleoh.com/events/details/artist-talk-with-vail-visiting-artist-kimo-nelson-13953
END:VEVENT

END:VCALENDAR
