BEGIN:VCALENDAR
VERSION:2.0
PRODID:-//ChamberMaster//Event Calendar 2.0//EN
METHOD:PUBLISH
X-PUBLISHED-TTL:P3D
REFRESH-INTERVAL:P3D
CALSCALE:GREGORIAN
BEGIN:VEVENT
DTSTART:20190415T223000Z
DTEND:20190415T233000Z
X-MICROSOFT-CDO-ALLDAYEVENT:FALSE
SUMMARY:Artist Talk with Vail Visiting Artist Roxanne Jackson
DESCRIPTION:Denison University welcomes Vail Visiting Artist Roxanne Jackson presenting an artist talk.\nJackson is an artist using the ceramic process to topically investigate concepts of mortality\, extinction and transformation\, while interrogating the line between gorgeous and grotesque.
X-ALT-DESC;FMTTYPE=text/html:<span style="background-color:transparent\; color:rgb(0\, 0\, 0)\; font-family:arial\; font-size:11pt">Denison University welcomes Vail Visiting Artist Roxanne Jackson presenting an artist talk.</span>\n<p><span style="background-color:transparent\; color:rgb(0\, 0\, 0)\; font-family:arial\; font-size:11pt">Jackson is an artist using the ceramic process to topically investigate concepts of mortality\, extinction and transformation\, while interrogating the line between gorgeous and grotesque.</span></p>\n\n<div>&nbsp\;</div>\n<br />\n&nbsp\;
LOCATION:Denison University Knapp Performance Lab 300 Ridge Road
UID:e.180.12623
SEQUENCE:3
DTSTAMP:20260420T051031Z
URL:http://business.granvilleoh.com/events/details/artist-talk-with-vail-visiting-artist-roxanne-jackson-12623
END:VEVENT

END:VCALENDAR
