BEGIN:VCALENDAR
VERSION:2.0
PRODID:-//ChamberMaster//Event Calendar 2.0//EN
METHOD:PUBLISH
X-PUBLISHED-TTL:P3D
REFRESH-INTERVAL:P3D
CALSCALE:GREGORIAN
BEGIN:VEVENT
DTSTART:20191009T223000Z
DTEND:20191009T233000Z
X-MICROSOFT-CDO-ALLDAYEVENT:FALSE
SUMMARY:Artist Talk with Vail visiting artist Sophia Chai
DESCRIPTION:Denison University presents an Artist Talk with Vail visiting artist Sophia.\n\n\n\nChai received her Master of Fine Arts in photography from the University of Illinois at Chicago and her Bachelor of Arts in chemistry from the University of Chicago. She has shown her work at various venues in New York City\, including Trestle Projects\, The Bronx Museum of the Arts\, The Knockdown Center\, A.I.R. Gallery\, and TSA Gallery amongst others. Her last solo show was at 106 Green Gallery in Brooklyn\, New York in 2016. Chai is a recent recipient of the SEMAC (Southeastern Minnesota Arts Council) grant for advancing artists. In 2020\, Chai will open a solo exhibition at the Rochester Art Center and a two-person show at Hair +Nails Gallery in Minneapolis.
X-ALT-DESC;FMTTYPE=text/html:<span style="color:rgb(0\, 0\, 0)\; font-family:arial\; font-size:14.6667px">Denison University presents an Artist Talk with Vail visiting artist Sophia.</span><br />\n<br />\n<span style="background-color:transparent\; color:rgb(0\, 0\, 0)\; font-family:arial\; font-size:11pt">Chai received her Master of Fine Arts in photography from the University of Illinois at Chicago and her Bachelor of Arts in chemistry from the University of Chicago. She has shown her work at various venues in New York City\, including Trestle Projects\, The Bronx Museum of the Arts\, The Knockdown Center\, A.I.R. Gallery\, and TSA Gallery amongst others. Her last solo show was at 106 Green Gallery in Brooklyn\, New York in 2016. Chai is a recent recipient of the SEMAC (Southeastern Minnesota Arts Council) grant for advancing artists. In 2020\, Chai will open a solo exhibition at the Rochester Art Center and a two-person show at Hair +Nails Gallery in Minneapolis.</span>
LOCATION:Denison University Room 305 of the Bryant Arts Center 210 West College Street
UID:e.180.12910
SEQUENCE:3
DTSTAMP:20260422T132355Z
URL:http://business.granvilleoh.com/events/details/artist-talk-with-vail-visiting-artist-sophia-chai-12910
END:VEVENT

END:VCALENDAR
