BEGIN:VCALENDAR
VERSION:2.0
PRODID:-//ChamberMaster//Event Calendar 2.0//EN
METHOD:PUBLISH
X-PUBLISHED-TTL:P3D
REFRESH-INTERVAL:P3D
CALSCALE:GREGORIAN
BEGIN:VEVENT
DTSTART:20190328T213000Z
DTEND:20190328T223000Z
X-MICROSOFT-CDO-ALLDAYEVENT:FALSE
SUMMARY:Artist Talk with Vail Visiting Artist Tay Cha
DESCRIPTION:Denison University welcomes Vail Visiting Artist Tay Cha presenting an artist talk.\n\nDenison Alumnus Cha graduated with an Master of Fine Arts from The University of Pennsylvania. There he received The Lawrence Shprintz Master of Fine Arts Award given to a student for outstanding performance in any medium. Cha has exhibited in solo and group shows in Ohio\, Philadelphia and New York.
X-ALT-DESC;FMTTYPE=text/html:<p><span style="font-family:arial\; font-size:11pt">Denison University welcomes Vail Visiting Artist Tay Cha presenting an artist talk.</span></p>\n\n<p><span style="color:rgb(0\, 0\, 0)\; font-family:verdana\,geneva\,sans-serif\; font-size:12px"><span style="font-family:arial\; font-size:11pt">Denison Alumnus Cha graduated with an Master of Fine Arts from The University of Pennsylvania. There he received The Lawrence Shprintz Master of Fine Arts Award given to a student for outstanding performance in any medium. Cha has exhibited in solo and group shows in Ohio\, Philadelphia and New York.</span></span></p>\n
LOCATION:Denison University Room 305 of the Bryant Arts Center 210 West College Street
UID:e.180.12518
SEQUENCE:3
DTSTAMP:20260420T035440Z
URL:http://business.granvilleoh.com/events/details/artist-talk-with-vail-visiting-artist-tay-cha-12518
END:VEVENT

END:VCALENDAR
