BEGIN:VCALENDAR
VERSION:2.0
PRODID:-//ChamberMaster//Event Calendar 2.0//EN
METHOD:PUBLISH
X-PUBLISHED-TTL:P3D
REFRESH-INTERVAL:P3D
CALSCALE:GREGORIAN
BEGIN:VEVENT
DTSTART:20191105T183000Z
DTEND:20191105T193000Z
X-MICROSOFT-CDO-ALLDAYEVENT:FALSE
SUMMARY:Artist talk with Vail Visiting Artists Sabrina Lessard and Gabriel Zazueta
DESCRIPTION:Denison University welcomes Vail visiting artists Sabrina Lessard and Gabriel Zazueta of TUYO NYC presenting an artist talk.\nZazueta will share her background in Design\, Advertising\, and Education. Lessard works extensively in the field of Contemporary Fine Art specializing in studio and production management and fabrication.
X-ALT-DESC;FMTTYPE=text/html:<span style="background-color:transparent\; color:rgb(0\, 0\, 0)\; font-family:arial\; font-size:11pt">Denison University welcomes Vail visiting artists Sabrina Lessard and Gabriel Zazueta of TUYO NYC presenting an artist talk.</span>\n<p><span style="background-color:transparent\; color:rgb(0\, 0\, 0)\; font-family:arial\; font-size:11pt">Zazueta will share her background in Design\, Advertising\, and Education. Lessard works extensively in the field of Contemporary Fine Art specializing in studio and production management and fabrication.</span></p>\n&nbsp\;\n\n<div>&nbsp\;</div>\n\n<div>&nbsp\;</div>\n
LOCATION:Denison University Room 301 of the Bryant Arts Center 210 West College
UID:e.180.13967
SEQUENCE:3
DTSTAMP:20260422T144830Z
URL:http://business.granvilleoh.com/events/details/artist-talk-with-vail-visiting-artists-sabrina-lessard-and-gabriel-zazueta-13967
END:VEVENT

END:VCALENDAR
