BEGIN:VCALENDAR
VERSION:2.0
PRODID:-//ChamberMaster//Event Calendar 2.0//EN
METHOD:PUBLISH
X-PUBLISHED-TTL:P3D
REFRESH-INTERVAL:P3D
CALSCALE:GREGORIAN
BEGIN:VEVENT
DTSTART:20190719T013000Z
DTEND:20190719T020000Z
X-MICROSOFT-CDO-ALLDAYEVENT:FALSE
SUMMARY:Astronomy with Mike Bait
DESCRIPTION:Join GHS Physics teacher Mike Bait for stargazing. Telescopes and binoculars will be on hand but feel free to bring your own. We'll meet on the field behind Granville Intermediate School. Rising 7th grade through Adult.
X-ALT-DESC;FMTTYPE=text/html:Join GHS Physics teacher Mike Bait for stargazing. Telescopes and binoculars will be on hand but feel free to bring your own. We&#39\;ll meet on the field behind Granville Intermediate School. Rising 7th grade through Adult.
LOCATION:Behind Granville Intermediate School
UID:e.180.12728
SEQUENCE:3
DTSTAMP:20260422T085026Z
URL:http://business.granvilleoh.com/events/details/astronomy-with-mike-bait-12728
END:VEVENT

END:VCALENDAR
