BEGIN:VCALENDAR
VERSION:2.0
PRODID:-//ChamberMaster//Event Calendar 2.0//EN
METHOD:PUBLISH
X-PUBLISHED-TTL:P3D
REFRESH-INTERVAL:P3D
CALSCALE:GREGORIAN
BEGIN:VEVENT
DTSTART:20191215T010000Z
DTEND:20191215T023000Z
X-MICROSOFT-CDO-ALLDAYEVENT:FALSE
SUMMARY:Available Light Theatre: 'Remain In Light'
DESCRIPTION:The Denison University Department of Theatre welcomes Available Light Theatre presenting "Remain In Light\," an original play (with music) about an ordinary woman braving the difficult journey of learning to make a life worth living.\nA theatrical look at the tenets and tools of the Positive Psychology movement\, "Remain In Light" was created by visiting artists Available Light Theatre\, and will be presented as part of their residency with Denison.\n\n"Remain in Light" is a collage of movement\, moments\, songs\, and visions\; a practical handbook for being a better whatever you already are\; a play written for anyone seeking more joy and well being.\n\n"This kaleidoscopic\, physical collage tackles some of the biggest questions facing us today... It's a reminder to be here in the moment and here for one another. Who among us couldn't use that?" (Richard Sanford\, Columbus Underground)
X-ALT-DESC;FMTTYPE=text/html:<span style="background-color:transparent\; color:rgb(0\, 0\, 0)\; font-family:arial\; font-size:11pt">The Denison University Department of Theatre welcomes Available Light Theatre presenting &quot\;Remain In Light\,&quot\; an original play (with music) about an ordinary woman braving the difficult journey of learning to make a life worth living.</span>\n<p><span style="color:rgb(0\, 0\, 0)\; font-family:arial\; font-size:11pt">A theatrical look at the tenets and tools of the Positive Psychology movement\, &quot\;Remain In Light&quot\; was created by visiting artists Available Light Theatre\, and will be presented as part of their residency with Denison.</span></p>\n\n<p><span style="color:rgb(0\, 0\, 0)\; font-family:arial\; font-size:11pt">&quot\;Remain in Light&quot\; is a collage of movement\, moments\, songs\, and visions\; a practical handbook for being a better whatever you already are\; a play written for anyone seeking more joy and well being.</span></p>\n\n<p><span style="color:rgb(0\, 0\, 0)\; font-family:arial\; font-size:11pt">&quot\;This kaleidoscopic\, physical collage tackles some of the biggest questions facing us today... It&#39\;s a reminder to be here in the moment and here for one another. Who among us couldn&#39\;t use that?&quot\; (Richard Sanford\, Columbus Underground)</span></p>\n\n<div>&nbsp\;</div>\n
LOCATION:Denison University Hylbert Family Studio Theatre of the Michael D. Eisner Center for the Performing Arts 240 West Broadway
UID:e.180.13993
SEQUENCE:3
DTSTAMP:20260422T160828Z
URL:http://business.granvilleoh.com/events/details/available-light-theatre-remain-in-light-13993
END:VEVENT

END:VCALENDAR
