BEGIN:VCALENDAR
VERSION:2.0
PRODID:-//ChamberMaster//Event Calendar 2.0//EN
METHOD:PUBLISH
X-PUBLISHED-TTL:P3D
REFRESH-INTERVAL:P3D
CALSCALE:GREGORIAN
BEGIN:VEVENT
DTSTART:20190108T150000Z
DTEND:20190108T160000Z
X-MICROSOFT-CDO-ALLDAYEVENT:FALSE
SUMMARY:Baby Time
DESCRIPTION:Songs\, rhymes\, and an open play session. Birth to 18 months. Open hour play sessions February 5\, March 12\, and April 16.
X-ALT-DESC;FMTTYPE=text/html:Songs\, rhymes\, and an open play session. Birth to 18 months. Open hour play sessions February 5\, March 12\, and April 16.
LOCATION:Granville Public Library
UID:e.180.12280
SEQUENCE:3
DTSTAMP:20260420T005455Z
URL:http://business.granvilleoh.com/events/details/baby-time-01-08-2019-12280
END:VEVENT

END:VCALENDAR
